BEGIN:VCALENDAR
VERSION:2.0
PRODID:-//France Esports - ECPv4.8.2//NONSGML v1.0//EN
CALSCALE:GREGORIAN
METHOD:PUBLISH
X-WR-CALNAME:France Esports
X-ORIGINAL-URL:https://www.france-esports.org
X-WR-CALDESC:Évènements pour France Esports
BEGIN:VEVENT
DTSTART;TZID=Europe/Paris:20220926T200000
DTEND;TZID=Europe/Paris:20220926T210000
DTSTAMP:20260420T133330
CREATED:20220104T113219Z
LAST-MODIFIED:20220106T114021Z
UID:12170-1664222400-1664226000@www.france-esports.org
SUMMARY:Pôle Communication - Réunion
DESCRIPTION:La réunion bi-mensuelle du pôle communication permet :\n– D’aborder les éléments clefs du plan de communication\n– Soulever des besoins rapportés par les membres et groupe de travail\n– Attribuer les tâches aux membres participants\n– Mettre en production des éléments de communication auprès de nos agences\nUn compte rendu est effectué à la fin de la réunion \n
URL:https://www.france-esports.org/evenement/pole-communication-reunion-62/
LOCATION:Discord COM Vocal 1
CATEGORIES:Esport
END:VEVENT
END:VCALENDAR